BEGIN:VCALENDAR
VERSION:2.0
PRODID:-//Yoga and mindfulness meditation retreats in Ireland - ECPv4.6.3//NONSGML v1.0//EN
CALSCALE:GREGORIAN
METHOD:PUBLISH
X-WR-CALNAME:Yoga and mindfulness meditation retreats in Ireland
X-ORIGINAL-URL:http://macallafarm.ie
X-WR-CALDESC:Events for Yoga and mindfulness meditation retreats in Ireland
BEGIN:VEVENT
DTSTART;VALUE=DATE:20180302
DTEND;VALUE=DATE:20180309
DTSTAMP:20171107T103838
CREATED:20170926T195835Z
LAST-MODIFIED:20171022T093457Z
UID:3731-1519948800-1520553599@macallafarm.ie
SUMMARY:Sati yoga retreat in Portugal with Christophe
DESCRIPTION:This 6 day retreat is held in Quinta Mimosa\, a wellness and awareness centre located in Southern Portugal\, a 30 mn drive from Faro international airport. \nThis retreat is aimed at those who have an interest in both yoga and mindfulness meditation.\nIt is designed to help participants develop a balanced practice integrating all aspects of yoga and which they can then continue on their own after the retreat. \nIt is suitable for all levels\, from keen beginners to advanced. \n
URL:http://macallafarm.ie/retreats-courses/sati-yoga-retreat-in-portugal-with-christophe
ATTACH;FMTTYPE=image/jpeg:http://macallafarm.ie/wp-content/uploads/2017/09/Garden_near_Solandra-e1506455842688.jpg
ORGANIZER;CN="Christophe%20Mouze":MAILTO:christophe@ecofarm.ie
END:VEVENT
END:VCALENDAR