BEGIN:VCALENDAR
VERSION:2.0
PRODID:-//Yoga and mindfulness meditation retreats in Ireland - ECPv4.6.3//NONSGML v1.0//EN
CALSCALE:GREGORIAN
METHOD:PUBLISH
X-WR-CALNAME:Yoga and mindfulness meditation retreats in Ireland
X-ORIGINAL-URL:http://macallafarm.ie
X-WR-CALDESC:Events for Yoga and mindfulness meditation retreats in Ireland
BEGIN:VEVENT
DTSTART;VALUE=DATE:20180330
DTEND;VALUE=DATE:20180403
DTSTAMP:20171107T104200
CREATED:20150123T142034Z
LAST-MODIFIED:20170918T134714Z
UID:1231-1522368000-1522713599@macallafarm.ie
SUMMARY:Easter Sati Yoga weekend
DESCRIPTION:A four day yoga and meditation retreat designed for serious students (from keen beginners to experienced practitioners) who wish to explore the connection between mindfulness (sati in the ancient language of the Buddha) and the classical eight limb system of yoga.\nThe practice of mindfulness in meditation can be readily applied to the practice of physical asana\, using classical hatha yoga postures. This course explores how to practice with awareness\, to bring our mind back to its essential embodiedness\, to connect and stay with our breath\, to recognize emotions and thoughts as they arise\, how they distract us\, how they pass away. Within this approach\, meditation\, relaxation and breath training form an important part of the practice. The principles of mindfulness then inform the practice of yoga asana and lead to a deeper integration. We learn to cultivate both active and receptive attention\, gaining insights into how this integrated practice can be applied to other aspects of our lives as a tool for transformation. \nThe day starts with a 30 minute meditation session\, followed by a 2 and a half hour yoga session. Attention will be paid to developing and refining our breath awareness  and to applying this awareness in our asana practice. Initially working with simple postures\, we learn to create a sense of spaciousness in our bodies while also working with gravity to establish strength and stability at the base of each asana. Over the course of the retreat\, we explore sun salutations\, various types of postures  and will play with the relationships between simple\, foundation postures and more advanced asanas.\nA delicious brunch follows the morning yoga session. At 5 pm\, we meet again for an afternoon yoga class which will include a more restorative practice and some yogic breathing.  A delicious and creative vegetarian three course dinner follows. We finish the day with a 30 minute sitting meditation session. \nThis course would be of interest to keen beginners as well as experienced practitioners\, and especially to anyone who has done an 8 week MBSR course. Yoga teachers are also welcome.\n\nThe cost of this retreat is 450 euros. A 225 euros deposit\, payable online by Paypal or by bank transfer\,  is required at the time of booking. \n\n\n\n \n\n\n3 nights accommodation (sharing in twin rooms)\nAll meals (delicious organic vegetarian food\, most vegetables grown on our farm)\nEight yoga and four meditation sessions equivalent to more than 20 hours of tuition\nReturn ferry from Roonagh quay (normally 17 euros)\n\n\n\nFriday evening\n5.15 pm Leave Roonagh pier\naround 6.00 pm Arrive at the centre\n6.30 pm Restorative yoga class with introduction to awareness of the breath\n7.30 pm Dinner followed by introductory talk\n9.00 am Sitting meditation \nSaturday and Sunday\n8.00 am Meditation / breath awareness\n8.30 am Morning asana class\n11.00 pm Brunch\n12.30 pm Karma yoga or free time for hill walking\, reading\, relaxing\n4.30 pm Walking meditation\n5.00 pm Afternoon yoga class\n7.00 pm Dinner\n8.30 am Sitting meditation \nMonday\n7.30 am Meditation / breath awareness\n8.00 am Morning asana class\n9.00 am Breakfast\n9.45an Depart centre for 10.15 am ferry\n*times may be subject to change\n\n
URL:http://macallafarm.ie/retreats-courses/easter-sati-yoga-retreat
CATEGORIES:Mindfulness Retreats,Yoga Retreats
ATTACH;FMTTYPE=image/jpeg:http://macallafarm.ie/wp-content/uploads/2014/12/RIMG1167-e1429826070466.jpg
ORGANIZER;CN="Ciara%20Cullen":MAILTO:ciara@macallafarm.ie
END:VEVENT
END:VCALENDAR